BEGIN:VCALENDAR
VERSION:2.0
PRODID:-// - ECPv6.15.17.1//NONSGML v1.0//EN
CALSCALE:GREGORIAN
METHOD:PUBLISH
X-ORIGINAL-URL:https://www.swingdancingphoenix.com
X-WR-CALDESC:Events for 
REFRESH-INTERVAL;VALUE=DURATION:PT1H
X-Robots-Tag:noindex
X-PUBLISHED-TTL:PT1H
BEGIN:VTIMEZONE
TZID:America/Phoenix
BEGIN:STANDARD
TZOFFSETFROM:-0700
TZOFFSETTO:-0700
TZNAME:MST
DTSTART:20250101T000000
END:STANDARD
END:VTIMEZONE
BEGIN:VEVENT
DTSTART;TZID=America/Phoenix:20260419T160000
DTEND;TZID=America/Phoenix:20260419T180000
DTSTAMP:20260423T012722
CREATED:20230105T232404Z
LAST-MODIFIED:20230105T232404Z
UID:11451-1776614400-1776621600@www.swingdancingphoenix.com
SUMMARY:Sunday Jump! - Fatcat
DESCRIPTION:Let’s dance!\n4:00 PM – 5:00 PM\nEast Coast Swing lesson with Keith Cyrnek\n5:00 PM – 6:00 PM\nBalboa lesson with Keith Cyrnek\n$10\nNo partner required! All ages welcome\n\n\n\n\n \n\n\n\n\n\n\n\n\n\n\n\n\n\n\n\n\n\n\n\n\n\n\n\nJoin Keith for two hours of dancing fun on Sunday afternoons! The beginner dance class includes a one-hour session on beginning East Coast Swing\, followed by a Balboa lesson in the second hour. Whether you’re a beginner dancer or simply looking to dust off your dancing shoes\, the Sunday Jump Sessions are perfect for you. Come and enjoy a lively dance experience that caters to all skill levels.\n\n\n\n\n\n\n\n\nSwing out at Fatcat!\n \nAbout The Lesson and Social Dancing\nIn the first hour\, you’ll learn beginner-level East Coast Swing moves\, followed by beginning Balboa in the second hour. This two-hour session is a fantastic opportunity to start or refresh your swing dance skills and feel more confident on the dance floor. Whether you’re a beginner or returning to swing dancing\, this class will help you get started and feel comfortable with your swing dance moves. \n  \nMusic\nThe music at Sunday Jump Sessions is provided by live DJs who play a range of swing music from the 1900s to today’s hits\, with a mix of fast and slow tempos. From big band and rockabilly to the latest hits\, the DJs work hard to bring you the best variety of swing music and welcome requests.  \n  \nAge Range\nThe age range at Fatcat is typically those in their forties and above.  \n\n\n\n\n\n\n\n\n \nAbout Fatcat Ballroom & Dance Company \nGet ready to swing out on the whopping 6\,000 square foot floating dance floor. With space for more than two hundred dancers\, this giant dance floor is perfect for big groups or solo moves. \n  \nFood and Drinks\nThere’s a beer and pizza place located within the shopping center\, and there’s also free water to stay hydrated. \n  \nAir Conditioning\nYes \n  \nParking\nFinding a spot is a breeze – parking is free\, abundant\, well-lit\, and within close proximity to the front door. \n  \n<!–DANCE GUIDELINES \nDance Guidelines\n\nFrequently wash/sanitize hands during the evening\nDo not attend if you are experiencing COVID symptoms\, feel sick\, or have been exposed. Help us keep the community healthy; stay home when not feeling well! \nRemember\, NO always means NO. Keep in mind that more people than usual may want to limit the number of partners they dance with in an evening. Please be respectful of others’ choices and boundaries.\nWe cannot guarantee a completely risk-free environment so please\, dance at your own risk taking into consideration your personal health situation.\n\n  \n–> \nNew Dancer FAQs\nNew to swing dancing? We have answers to your questions. \n  \nLast Minute Changes\nLast minute changes can happen and we don’t always hear about them to update our calendar in time. Just in case\, make sure to check the event link below before heading out the door. \n  \n\n\n\n\n\n\n\n\n\nGoing to the event? Give us a shout out!\nTell the instructor you saw the event on our calendar! 🤙🏻
URL:https://www.swingdancingphoenix.com/event/sunday-jump-fatcat-n-phx/2026-04-19/
LOCATION:Fatcat Ballroom\, 3131 E Thunderbird Rd Suite #33\, Phoenix\, AZ\, 85032\, United States
GEO:33.6101242;-112.0147593
X-APPLE-STRUCTURED-LOCATION;VALUE=URI;X-ADDRESS=Fatcat Ballroom 3131 E Thunderbird Rd Suite #33 Phoenix AZ 85032 United States;X-APPLE-RADIUS=500;X-TITLE=3131 E Thunderbird Rd Suite #33:geo:-112.0147593,33.6101242
END:VEVENT
END:VCALENDAR